BEGIN:VCALENDAR
VERSION:2.0
PRODID:-//First Responders Foundation - ECPv6.15.16//NONSGML v1.0//EN
CALSCALE:GREGORIAN
METHOD:PUBLISH
X-WR-CALNAME:First Responders Foundation
X-ORIGINAL-URL:https://firstrespondersfoundation.org
X-WR-CALDESC:Events for First Responders Foundation
REFRESH-INTERVAL;VALUE=DURATION:PT1H
X-Robots-Tag:noindex
X-PUBLISHED-TTL:PT1H
BEGIN:VTIMEZONE
TZID:America/Chicago
BEGIN:DAYLIGHT
TZOFFSETFROM:-0600
TZOFFSETTO:-0500
TZNAME:CDT
DTSTART:20210314T080000
END:DAYLIGHT
BEGIN:STANDARD
TZOFFSETFROM:-0500
TZOFFSETTO:-0600
TZNAME:CST
DTSTART:20211107T070000
END:STANDARD
BEGIN:DAYLIGHT
TZOFFSETFROM:-0600
TZOFFSETTO:-0500
TZNAME:CDT
DTSTART:20220313T080000
END:DAYLIGHT
BEGIN:STANDARD
TZOFFSETFROM:-0500
TZOFFSETTO:-0600
TZNAME:CST
DTSTART:20221106T070000
END:STANDARD
BEGIN:DAYLIGHT
TZOFFSETFROM:-0600
TZOFFSETTO:-0500
TZNAME:CDT
DTSTART:20230312T080000
END:DAYLIGHT
BEGIN:STANDARD
TZOFFSETFROM:-0500
TZOFFSETTO:-0600
TZNAME:CST
DTSTART:20231105T070000
END:STANDARD
BEGIN:DAYLIGHT
TZOFFSETFROM:-0600
TZOFFSETTO:-0500
TZNAME:CDT
DTSTART:20240310T080000
END:DAYLIGHT
BEGIN:STANDARD
TZOFFSETFROM:-0500
TZOFFSETTO:-0600
TZNAME:CST
DTSTART:20241103T070000
END:STANDARD
END:VTIMEZONE
BEGIN:VEVENT
DTSTART;TZID=America/Chicago:20231029T120000
DTEND;TZID=America/Chicago:20231029T180000
DTSTAMP:20260423T160405
CREATED:20230928T182024Z
LAST-MODIFIED:20230929T192604Z
UID:10000669-1698580800-1698602400@firstrespondersfoundation.org
SUMMARY:Fall Family Event 10/29/2023 Noon - 6PM
DESCRIPTION:
URL:https://firstrespondersfoundation.org/event/fall-family-event-10-29-2023-noon-6pm/
LOCATION:Bellevue Berry & Pumpkin Ranch 11001 S 48th St\, Papillion\, NE 68133\, IA
CATEGORIES:First Responders Support Team
ORGANIZER;CN="Behavioral Health":MAILTO:FRST@FirstRespondersFoundation.org
END:VEVENT
BEGIN:VEVENT
DTSTART;TZID=America/Chicago:20221030T120000
DTEND;TZID=America/Chicago:20221030T180000
DTSTAMP:20260423T160405
CREATED:20220914T151641Z
LAST-MODIFIED:20220915T200922Z
UID:10000561-1667131200-1667152800@firstrespondersfoundation.org
SUMMARY:Fall Family Event 10/30/2022 Noon - 6PM
DESCRIPTION:We have reached 150 people registered!\nAll First Responders are welcome to join us for the discounted rate of $12 per person at the gate.\n  \nThank you to the first 150 people who registered for the First Responders Foundation Fall Family Event. You will receive an email prior to the event with details on how to get your free wristbands when you arrive at the Bellevue Berry Farm and Pumpkin Ranch on October 30th.\nWe encourage all first responders and their families to join us on October 30th where you will receive the discounted entrance fee of $12 per person. Upon arrival at the gate let them know you are with the First Responders Foundation. Ages 2 and under are free.\nThe First Responders Foundation will provide free meals and drinks for all from 12:00-2:00 pm at the Pavilion.\nThis is just a small way to say thank you for all you do for our communities. We look forward to seeing you all there!\n\n		\n			\n			\n		\n\n		\nTo download a flyer click here. \n  \n 
URL:https://firstrespondersfoundation.org/event/fall-family-event-10-30-2022-noon-6pm/
LOCATION:Bellevue Berry & Pumpkin Ranch 11001 S 48th St\, Papillion\, NE 68133\, IA
CATEGORIES:First Responders Support Team
ATTACH;FMTTYPE=image/png:https://firstrespondersfoundation.org/wp-content/uploads/2022/09/unnamed-2.png
ORGANIZER;CN="Behavioral Health":MAILTO:FRST@FirstRespondersFoundation.org
END:VEVENT
END:VCALENDAR