BEGIN:VCALENDAR
VERSION:2.0
PRODID:-//First Responders Foundation - ECPv6.15.16//NONSGML v1.0//EN
CALSCALE:GREGORIAN
METHOD:PUBLISH
X-WR-CALNAME:First Responders Foundation
X-ORIGINAL-URL:https://firstrespondersfoundation.org
X-WR-CALDESC:Events for First Responders Foundation
REFRESH-INTERVAL;VALUE=DURATION:PT1H
X-Robots-Tag:noindex
X-PUBLISHED-TTL:PT1H
BEGIN:VTIMEZONE
TZID:America/Chicago
BEGIN:DAYLIGHT
TZOFFSETFROM:-0600
TZOFFSETTO:-0500
TZNAME:CDT
DTSTART:20250309T080000
END:DAYLIGHT
BEGIN:STANDARD
TZOFFSETFROM:-0500
TZOFFSETTO:-0600
TZNAME:CST
DTSTART:20251102T070000
END:STANDARD
BEGIN:DAYLIGHT
TZOFFSETFROM:-0600
TZOFFSETTO:-0500
TZNAME:CDT
DTSTART:20260308T080000
END:DAYLIGHT
BEGIN:STANDARD
TZOFFSETFROM:-0500
TZOFFSETTO:-0600
TZNAME:CST
DTSTART:20261101T070000
END:STANDARD
BEGIN:DAYLIGHT
TZOFFSETFROM:-0600
TZOFFSETTO:-0500
TZNAME:CDT
DTSTART:20270314T080000
END:DAYLIGHT
BEGIN:STANDARD
TZOFFSETFROM:-0500
TZOFFSETTO:-0600
TZNAME:CST
DTSTART:20271107T070000
END:STANDARD
END:VTIMEZONE
BEGIN:VEVENT
DTSTART;TZID=America/Chicago:20260114T073000
DTEND;TZID=America/Chicago:20260114T090000
DTSTAMP:20260423T232046
CREATED:20251117T182657Z
LAST-MODIFIED:20251117T182657Z
UID:10000721-1768375800-1768381200@firstrespondersfoundation.org
SUMMARY:Council Bluffs Iowa Chapter Board Meeting
DESCRIPTION:
URL:https://firstrespondersfoundation.org/event/council-bluffs-iowa-chapter-board-meeting-2/
END:VEVENT
BEGIN:VEVENT
DTSTART;TZID=America/Chicago:20260116T093000
DTEND;TZID=America/Chicago:20260116T110000
DTSTAMP:20260423T232046
CREATED:20251104T165224Z
LAST-MODIFIED:20251104T165224Z
UID:10000720-1768555800-1768561200@firstrespondersfoundation.org
SUMMARY:Douglas County Corrections Chapter Board Meeting
DESCRIPTION:
URL:https://firstrespondersfoundation.org/event/douglas-county-corrections-chapter-board-meeting-2/
END:VEVENT
BEGIN:VEVENT
DTSTART;TZID=America/Chicago:20260116T120000
DTEND;TZID=America/Chicago:20260116T140000
DTSTAMP:20260423T232046
CREATED:20251217T185302Z
LAST-MODIFIED:20251217T185302Z
UID:10000726-1768564800-1768572000@firstrespondersfoundation.org
SUMMARY:Free Pizza + Spinal Screenings with Antler Point Chiropractic
DESCRIPTION:
URL:https://firstrespondersfoundation.org/event/free-pizza-spinal-screenings-with-antler-point-chiropractic/
LOCATION:10605 Burt Circle\, 10605 Burt Circle\, Omaha\, NE\, 68116\, United States
END:VEVENT
BEGIN:VEVENT
DTSTART;TZID=America/Chicago:20260120T120000
DTEND;TZID=America/Chicago:20260120T130000
DTSTAMP:20260423T232046
CREATED:20260106T195629Z
LAST-MODIFIED:20260106T195629Z
UID:10000741-1768910400-1768914000@firstrespondersfoundation.org
SUMMARY:First Responders Nonprofit Networking Group Meeting
DESCRIPTION:
URL:https://firstrespondersfoundation.org/event/first-responders-nonprofit-networking-group-meeting/
END:VEVENT
BEGIN:VEVENT
DTSTART;TZID=America/Chicago:20260120T150000
DTEND;TZID=America/Chicago:20260120T170000
DTSTAMP:20260423T232046
CREATED:20260106T201101Z
LAST-MODIFIED:20260106T201101Z
UID:10000745-1768921200-1768928400@firstrespondersfoundation.org
SUMMARY:Papillion Nebraska Chapter Board Meeting
DESCRIPTION:
URL:https://firstrespondersfoundation.org/event/papillion-nebraska-chapter-board-meeting/
END:VEVENT
END:VCALENDAR