BEGIN:VCALENDAR
VERSION:2.0
PRODID:-//First Responders Foundation - ECPv6.15.16//NONSGML v1.0//EN
CALSCALE:GREGORIAN
METHOD:PUBLISH
X-ORIGINAL-URL:https://firstrespondersfoundation.org
X-WR-CALDESC:Events for First Responders Foundation
REFRESH-INTERVAL;VALUE=DURATION:PT1H
X-Robots-Tag:noindex
X-PUBLISHED-TTL:PT1H
BEGIN:VTIMEZONE
TZID:America/Chicago
BEGIN:DAYLIGHT
TZOFFSETFROM:-0600
TZOFFSETTO:-0500
TZNAME:CDT
DTSTART:20210314T080000
END:DAYLIGHT
BEGIN:STANDARD
TZOFFSETFROM:-0500
TZOFFSETTO:-0600
TZNAME:CST
DTSTART:20211107T070000
END:STANDARD
BEGIN:DAYLIGHT
TZOFFSETFROM:-0600
TZOFFSETTO:-0500
TZNAME:CDT
DTSTART:20220313T080000
END:DAYLIGHT
BEGIN:STANDARD
TZOFFSETFROM:-0500
TZOFFSETTO:-0600
TZNAME:CST
DTSTART:20221106T070000
END:STANDARD
BEGIN:DAYLIGHT
TZOFFSETFROM:-0600
TZOFFSETTO:-0500
TZNAME:CDT
DTSTART:20230312T080000
END:DAYLIGHT
BEGIN:STANDARD
TZOFFSETFROM:-0500
TZOFFSETTO:-0600
TZNAME:CST
DTSTART:20231105T070000
END:STANDARD
END:VTIMEZONE
BEGIN:VEVENT
DTSTART;TZID=America/Chicago:20220928T160000
DTEND;TZID=America/Chicago:20220928T180000
DTSTAMP:20260423T172344
CREATED:20220624T001133Z
LAST-MODIFIED:20220624T001633Z
UID:10000542-1664380800-1664388000@firstrespondersfoundation.org
SUMMARY:Resiliency Training Kearney\, NE September 28\, 2022 4PM - 6PM
DESCRIPTION:To download a flyer click here. \nRegister Below: \nResiliency Training \nSeptember 28\, 2022 \n4:00 - 6:00 PM \nKearney Police Department Your First Name *Your Last Name *First Responder's Agency *Email *Phone *AddressCityStateZipcodeComments / Additional Information0 / 400Type NO-to unsubscribe from FRF updates Send MessagePlease do not fill in this field.
URL:https://firstrespondersfoundation.org/event/resiliency-training-kearney-ne-september-28-2022-4pm-6pm/
LOCATION:Kearney Police Department\, 2025 A Avenue\, Kearney\, NE\, 68847
CATEGORIES:First Responders Support Team,Resiliency Training
ATTACH;FMTTYPE=image/png:https://firstrespondersfoundation.org/wp-content/uploads/2022/06/Spencer-IA-Resiliency-flyer-photo.png
ORGANIZER;CN="Behavioral Health":MAILTO:FRST@FirstRespondersFoundation.org
END:VEVENT
BEGIN:VEVENT
DTSTART;TZID=America/Chicago:20220928T100000
DTEND;TZID=America/Chicago:20220928T120000
DTSTAMP:20260423T172344
CREATED:20220624T000820Z
LAST-MODIFIED:20220624T000820Z
UID:10000541-1664359200-1664366400@firstrespondersfoundation.org
SUMMARY:Resiliency Training Kearney\, NE September 28\, 2022 10AM-Noon
DESCRIPTION:To download a flyer click here. \nRegister Below: \nResiliency Training \nSeptember 28\, 2022 \n10:00 AM  - Noon \nKearney Police Department Your First Name *Your Last Name *First Responder's Agency *Email *Phone *AddressCityStateZipcodeComments / Additional Information0 / 400Type NO-to unsubscribe from FRF updates Send MessagePlease do not fill in this field.
URL:https://firstrespondersfoundation.org/event/resiliency-training-kearney-ne-september-28-2022-10am-noon/
LOCATION:Kearney Police Department\, 2025 A Avenue\, Kearney\, NE\, 68847
CATEGORIES:First Responders Support Team,Resiliency Training
ATTACH;FMTTYPE=image/png:https://firstrespondersfoundation.org/wp-content/uploads/2022/06/Spencer-IA-Resiliency-flyer-photo.png
ORGANIZER;CN="Behavioral Health":MAILTO:FRST@FirstRespondersFoundation.org
END:VEVENT
BEGIN:VEVENT
DTSTART;TZID=America/Chicago:20220927T160000
DTEND;TZID=America/Chicago:20220927T180000
DTSTAMP:20260423T172344
CREATED:20220624T000143Z
LAST-MODIFIED:20220624T000143Z
UID:10000540-1664294400-1664301600@firstrespondersfoundation.org
SUMMARY:Resiliency Training Kearney\, NE September 27\, 2022 4PM-6PM
DESCRIPTION:To download a flyer click here. \nRegister Below: \nResiliency Training \nSeptember 27\, 2022 \n4:00 - 6:00 PM \nKearney Police Department Your First Name *Your Last Name *First Responder's Agency *Email *Phone *AddressCityStateZipcodeComments / Additional Information0 / 400Type NO-to unsubscribe from FRF updates Send MessagePlease do not fill in this field.
URL:https://firstrespondersfoundation.org/event/resiliency-training-kearney-ne-september-27-2022-4pm-6pm/
LOCATION:Kearney Police Department\, 2025 A Avenue\, Kearney\, NE\, 68847
CATEGORIES:First Responders Support Team,Resiliency Training
ATTACH;FMTTYPE=image/png:https://firstrespondersfoundation.org/wp-content/uploads/2022/06/Spencer-IA-Resiliency-flyer-photo.png
ORGANIZER;CN="Behavioral Health":MAILTO:FRST@FirstRespondersFoundation.org
END:VEVENT
END:VCALENDAR