BEGIN:VCALENDAR
VERSION:2.0
PRODID:-//First Responders Foundation - ECPv6.15.16//NONSGML v1.0//EN
CALSCALE:GREGORIAN
METHOD:PUBLISH
X-ORIGINAL-URL:https://firstrespondersfoundation.org
X-WR-CALDESC:Events for First Responders Foundation
REFRESH-INTERVAL;VALUE=DURATION:PT1H
X-Robots-Tag:noindex
X-PUBLISHED-TTL:PT1H
BEGIN:VTIMEZONE
TZID:America/Chicago
BEGIN:DAYLIGHT
TZOFFSETFROM:-0600
TZOFFSETTO:-0500
TZNAME:CDT
DTSTART:20190310T080000
END:DAYLIGHT
BEGIN:STANDARD
TZOFFSETFROM:-0500
TZOFFSETTO:-0600
TZNAME:CST
DTSTART:20191103T070000
END:STANDARD
BEGIN:DAYLIGHT
TZOFFSETFROM:-0600
TZOFFSETTO:-0500
TZNAME:CDT
DTSTART:20200308T080000
END:DAYLIGHT
BEGIN:STANDARD
TZOFFSETFROM:-0500
TZOFFSETTO:-0600
TZNAME:CST
DTSTART:20201101T070000
END:STANDARD
BEGIN:DAYLIGHT
TZOFFSETFROM:-0600
TZOFFSETTO:-0500
TZNAME:CDT
DTSTART:20210314T080000
END:DAYLIGHT
BEGIN:STANDARD
TZOFFSETFROM:-0500
TZOFFSETTO:-0600
TZNAME:CST
DTSTART:20211107T070000
END:STANDARD
BEGIN:DAYLIGHT
TZOFFSETFROM:-0600
TZOFFSETTO:-0500
TZNAME:CDT
DTSTART:20220313T080000
END:DAYLIGHT
BEGIN:STANDARD
TZOFFSETFROM:-0500
TZOFFSETTO:-0600
TZNAME:CST
DTSTART:20221106T070000
END:STANDARD
BEGIN:DAYLIGHT
TZOFFSETFROM:-0600
TZOFFSETTO:-0500
TZNAME:CDT
DTSTART:20230312T080000
END:DAYLIGHT
BEGIN:STANDARD
TZOFFSETFROM:-0500
TZOFFSETTO:-0600
TZNAME:CST
DTSTART:20231105T070000
END:STANDARD
END:VTIMEZONE
BEGIN:VEVENT
DTSTART;TZID=America/Chicago:20220711T180000
DTEND;TZID=America/Chicago:20220711T180000
DTSTAMP:20260423T113253
CREATED:20220512T031025Z
LAST-MODIFIED:20220512T031025Z
UID:10000532-1657562400-1657562400@firstrespondersfoundation.org
SUMMARY:Yoga For First Responders® 7/11/22  6:00PM-7:00PM
DESCRIPTION:  \nYoga For First Responders® is FREE. Registration is required. Click here to register. \nTo download the flyer click here. \n 
URL:https://firstrespondersfoundation.org/event/yoga-for-first-responders-7-11-22-600pm-700pm/
LOCATION:First Responders Foundation Health & Wellness Center\, 10605 Burt Circle\, Omaha\, NE\, 68114\, United States
CATEGORIES:First Responders Fitness
ATTACH;FMTTYPE=image/png:https://firstrespondersfoundation.org/wp-content/uploads/2022/05/Yoga-for-First-Responders-logo.png
ORGANIZER;CN="First Responders Physical Health":MAILTO:brian@FirstRespondersFoundation.org
END:VEVENT
BEGIN:VEVENT
DTSTART;TZID=America/Chicago:20220627T180000
DTEND;TZID=America/Chicago:20220627T180000
DTSTAMP:20260423T113253
CREATED:20220512T030928Z
LAST-MODIFIED:20220512T030928Z
UID:10000531-1656352800-1656352800@firstrespondersfoundation.org
SUMMARY:Yoga For First Responders® 6/27/22  6:00PM-7:00PM
DESCRIPTION:  \nYoga For First Responders® is FREE. Registration is required. Click here to register. \nTo download the flyer click here. \n 
URL:https://firstrespondersfoundation.org/event/yoga-for-first-responders-6-27-22-600pm-700pm/
LOCATION:First Responders Foundation Health & Wellness Center\, 10605 Burt Circle\, Omaha\, NE\, 68114\, United States
CATEGORIES:First Responders Fitness
ATTACH;FMTTYPE=image/png:https://firstrespondersfoundation.org/wp-content/uploads/2022/05/Yoga-for-First-Responders-logo.png
ORGANIZER;CN="First Responders Physical Health":MAILTO:brian@FirstRespondersFoundation.org
END:VEVENT
BEGIN:VEVENT
DTSTART;TZID=America/Chicago:20220613T180000
DTEND;TZID=America/Chicago:20220613T180000
DTSTAMP:20260423T113253
CREATED:20220512T030742Z
LAST-MODIFIED:20220512T030742Z
UID:10000530-1655143200-1655143200@firstrespondersfoundation.org
SUMMARY:Yoga For First Responders® 6/13/22  6:00PM-7:00PM
DESCRIPTION:  \nYoga For First Responders® is FREE. Registration is required. Click here to register. \nTo download the flyer click here. \n 
URL:https://firstrespondersfoundation.org/event/yoga-for-first-responders-6-13-22-600pm-700pm/
LOCATION:First Responders Foundation Health & Wellness Center\, 10605 Burt Circle\, Omaha\, NE\, 68114\, United States
CATEGORIES:First Responders Fitness
ATTACH;FMTTYPE=image/png:https://firstrespondersfoundation.org/wp-content/uploads/2022/05/Yoga-for-First-Responders-logo.png
ORGANIZER;CN="First Responders Physical Health":MAILTO:brian@FirstRespondersFoundation.org
END:VEVENT
BEGIN:VEVENT
DTSTART;TZID=America/Chicago:20220606T180000
DTEND;TZID=America/Chicago:20220606T180000
DTSTAMP:20260423T113253
CREATED:20220512T030655Z
LAST-MODIFIED:20220512T030655Z
UID:10000529-1654538400-1654538400@firstrespondersfoundation.org
SUMMARY:Yoga For First Responders® 6/6/22  6:00PM-7:00PM
DESCRIPTION:  \nYoga For First Responders® is FREE. Registration is required. Click here to register. \nTo download the flyer click here. \n 
URL:https://firstrespondersfoundation.org/event/yoga-for-first-responders-6-6-22-600pm-700pm/
LOCATION:First Responders Foundation Health & Wellness Center\, 10605 Burt Circle\, Omaha\, NE\, 68114\, United States
CATEGORIES:First Responders Fitness
ATTACH;FMTTYPE=image/png:https://firstrespondersfoundation.org/wp-content/uploads/2022/05/Yoga-for-First-Responders-logo.png
ORGANIZER;CN="First Responders Physical Health":MAILTO:brian@FirstRespondersFoundation.org
END:VEVENT
BEGIN:VEVENT
DTSTART;TZID=America/Chicago:20220516T180000
DTEND;TZID=America/Chicago:20220516T190000
DTSTAMP:20260423T113253
CREATED:20220512T030102Z
LAST-MODIFIED:20220512T030102Z
UID:10000528-1652724000-1652727600@firstrespondersfoundation.org
SUMMARY:Yoga For First Responders® 5/16/22  6:00PM-7:00PM
DESCRIPTION:  \nYoga For First Responders® is FREE. Registration is required. Click here to register. \nTo download the flyer click here. \n 
URL:https://firstrespondersfoundation.org/event/yoga-for-first-responders-5-16-22-600pm-700pm/
LOCATION:First Responders Foundation Health & Wellness Center\, 10605 Burt Circle\, Omaha\, NE\, 68114\, United States
CATEGORIES:First Responders Fitness
ATTACH;FMTTYPE=image/png:https://firstrespondersfoundation.org/wp-content/uploads/2022/05/Yoga-for-First-Responders-logo.png
ORGANIZER;CN="First Responders Physical Health":MAILTO:brian@FirstRespondersFoundation.org
END:VEVENT
BEGIN:VEVENT
DTSTART;TZID=America/Chicago:20210526T180000
DTEND;TZID=America/Chicago:20210526T190000
DTSTAMP:20260423T113253
CREATED:20210407T130356Z
LAST-MODIFIED:20210407T130356Z
UID:10000495-1622052000-1622055600@firstrespondersfoundation.org
SUMMARY:Free Nidra Yoga - May 26th 6:00-7:00pm
DESCRIPTION:
URL:https://firstrespondersfoundation.org/event/free-nidra-yoga-may-26th-600-700pm/
LOCATION:First Responders Foundation Health & Wellness Center\, 10605 Burt Circle\, Omaha\, NE\, 68114\, United States
CATEGORIES:First Responders Fitness,Nidra Yoga
ATTACH;FMTTYPE=image/png:https://firstrespondersfoundation.org/wp-content/uploads/2020/09/400x300px-Nidra-Yoga.png
ORGANIZER;CN="First Responders Physical Health":MAILTO:brian@FirstRespondersFoundation.org
END:VEVENT
BEGIN:VEVENT
DTSTART;TZID=America/Chicago:20210519T180000
DTEND;TZID=America/Chicago:20210519T190000
DTSTAMP:20260423T113253
CREATED:20210407T130256Z
LAST-MODIFIED:20210407T130256Z
UID:10000494-1621447200-1621450800@firstrespondersfoundation.org
SUMMARY:Free Nidra Yoga - May 19th 6:00-7:00pm
DESCRIPTION:
URL:https://firstrespondersfoundation.org/event/free-nidra-yoga-may-19th-600-700pm/
LOCATION:First Responders Foundation Health & Wellness Center\, 10605 Burt Circle\, Omaha\, NE\, 68114\, United States
CATEGORIES:First Responders Fitness,Nidra Yoga
ATTACH;FMTTYPE=image/png:https://firstrespondersfoundation.org/wp-content/uploads/2020/09/400x300px-Nidra-Yoga.png
ORGANIZER;CN="First Responders Physical Health":MAILTO:brian@FirstRespondersFoundation.org
END:VEVENT
BEGIN:VEVENT
DTSTART;TZID=America/Chicago:20210512T180000
DTEND;TZID=America/Chicago:20210512T190000
DTSTAMP:20260423T113253
CREATED:20210407T130145Z
LAST-MODIFIED:20210407T130145Z
UID:10000493-1620842400-1620846000@firstrespondersfoundation.org
SUMMARY:Free Nidra Yoga - May 12th 6:00-7:00pm
DESCRIPTION:
URL:https://firstrespondersfoundation.org/event/free-nidra-yoga-may-12th-600-700pm/
LOCATION:First Responders Foundation Health & Wellness Center\, 10605 Burt Circle\, Omaha\, NE\, 68114\, United States
CATEGORIES:First Responders Fitness,Nidra Yoga
ATTACH;FMTTYPE=image/png:https://firstrespondersfoundation.org/wp-content/uploads/2020/09/400x300px-Nidra-Yoga.png
ORGANIZER;CN="First Responders Physical Health":MAILTO:brian@FirstRespondersFoundation.org
END:VEVENT
BEGIN:VEVENT
DTSTART;TZID=America/Chicago:20210505T180000
DTEND;TZID=America/Chicago:20210505T190000
DTSTAMP:20260423T113253
CREATED:20210407T130035Z
LAST-MODIFIED:20210407T130035Z
UID:10000492-1620237600-1620241200@firstrespondersfoundation.org
SUMMARY:Free Nidra Yoga - May 5th 6:00-7:00pm
DESCRIPTION:
URL:https://firstrespondersfoundation.org/event/free-nidra-yoga-may-5th-600-700pm/
LOCATION:First Responders Foundation Health & Wellness Center\, 10605 Burt Circle\, Omaha\, NE\, 68114\, United States
CATEGORIES:First Responders Fitness,Nidra Yoga
ATTACH;FMTTYPE=image/png:https://firstrespondersfoundation.org/wp-content/uploads/2020/09/400x300px-Nidra-Yoga.png
ORGANIZER;CN="First Responders Physical Health":MAILTO:brian@FirstRespondersFoundation.org
END:VEVENT
BEGIN:VEVENT
DTSTART;TZID=America/Chicago:20210428T180000
DTEND;TZID=America/Chicago:20210428T190000
DTSTAMP:20260423T113253
CREATED:20210407T125932Z
LAST-MODIFIED:20210407T125932Z
UID:10000491-1619632800-1619636400@firstrespondersfoundation.org
SUMMARY:Free Nidra Yoga - April 28th 6:00-7:00pm
DESCRIPTION:
URL:https://firstrespondersfoundation.org/event/free-nidra-yoga-april-28th-600-700pm/
LOCATION:First Responders Foundation Health & Wellness Center\, 10605 Burt Circle\, Omaha\, NE\, 68114\, United States
CATEGORIES:First Responders Fitness,Nidra Yoga
ATTACH;FMTTYPE=image/png:https://firstrespondersfoundation.org/wp-content/uploads/2020/09/400x300px-Nidra-Yoga.png
ORGANIZER;CN="First Responders Physical Health":MAILTO:brian@FirstRespondersFoundation.org
END:VEVENT
BEGIN:VEVENT
DTSTART;TZID=America/Chicago:20210421T180000
DTEND;TZID=America/Chicago:20210421T190000
DTSTAMP:20260423T113253
CREATED:20210407T125832Z
LAST-MODIFIED:20210407T125832Z
UID:10000490-1619028000-1619031600@firstrespondersfoundation.org
SUMMARY:Free Nidra Yoga - April 21st 6:00-7:00pm
DESCRIPTION:
URL:https://firstrespondersfoundation.org/event/free-nidra-yoga-april-21st-600-700pm/
LOCATION:First Responders Foundation Health & Wellness Center\, 10605 Burt Circle\, Omaha\, NE\, 68114\, United States
CATEGORIES:First Responders Fitness,Nidra Yoga
ATTACH;FMTTYPE=image/png:https://firstrespondersfoundation.org/wp-content/uploads/2020/09/400x300px-Nidra-Yoga.png
ORGANIZER;CN="First Responders Physical Health":MAILTO:brian@FirstRespondersFoundation.org
END:VEVENT
BEGIN:VEVENT
DTSTART;TZID=America/Chicago:20210414T180000
DTEND;TZID=America/Chicago:20210414T190000
DTSTAMP:20260423T113253
CREATED:20210407T125727Z
LAST-MODIFIED:20210407T125727Z
UID:10000489-1618423200-1618426800@firstrespondersfoundation.org
SUMMARY:Free Nidra Yoga - April 14th 6:00-7:00pm
DESCRIPTION:
URL:https://firstrespondersfoundation.org/event/free-nidra-yoga-april-14th-600-700pm/
LOCATION:First Responders Foundation Health & Wellness Center\, 10605 Burt Circle\, Omaha\, NE\, 68114\, United States
CATEGORIES:First Responders Fitness,Nidra Yoga
ATTACH;FMTTYPE=image/png:https://firstrespondersfoundation.org/wp-content/uploads/2020/09/400x300px-Nidra-Yoga.png
ORGANIZER;CN="First Responders Physical Health":MAILTO:brian@FirstRespondersFoundation.org
END:VEVENT
BEGIN:VEVENT
DTSTART;TZID=America/Chicago:20210407T180000
DTEND;TZID=America/Chicago:20210407T190000
DTSTAMP:20260423T113253
CREATED:20210405T174053Z
LAST-MODIFIED:20210407T125521Z
UID:10000488-1617818400-1617822000@firstrespondersfoundation.org
SUMMARY:Free Nidra Yoga - April 7th 6:00-7:00pm
DESCRIPTION:
URL:https://firstrespondersfoundation.org/event/free-nidra-yoga-april-7th-600-715pm/
LOCATION:First Responders Foundation Health & Wellness Center\, 10605 Burt Circle\, Omaha\, NE\, 68114\, United States
CATEGORIES:First Responders Fitness,Nidra Yoga
ATTACH;FMTTYPE=image/png:https://firstrespondersfoundation.org/wp-content/uploads/2020/09/400x300px-Nidra-Yoga.png
ORGANIZER;CN="First Responders Physical Health":MAILTO:brian@FirstRespondersFoundation.org
END:VEVENT
BEGIN:VEVENT
DTSTART;TZID=America/Chicago:20210126T181500
DTEND;TZID=America/Chicago:20210126T191500
DTSTAMP:20260423T113253
CREATED:20201023T164500Z
LAST-MODIFIED:20201206T194230Z
UID:10000464-1611684900-1611688500@firstrespondersfoundation.org
SUMMARY:Free First Responders Yoga "FRY" 1/26/21 6:15-7:15PM
DESCRIPTION:
URL:https://firstrespondersfoundation.org/event/first-responders-yoga-fry-nov-24th-615-715pm/
LOCATION:First Responders Foundation Health & Wellness Center\, 10605 Burt Circle\, Omaha\, NE\, 68114\, United States
CATEGORIES:First Responders Fitness,FRY - First Responders Yoga
ATTACH;FMTTYPE=image/png:https://firstrespondersfoundation.org/wp-content/uploads/2020/09/400x300-px-FRT-yoga.png
ORGANIZER;CN="Free First Responders Yoga 'FRY'":MAILTO:diann@firstrespondersfoundation.org
END:VEVENT
BEGIN:VEVENT
DTSTART;TZID=America/Chicago:20201028T180000
DTEND;TZID=America/Chicago:20201028T190000
DTSTAMP:20260423T113253
CREATED:20201023T165154Z
LAST-MODIFIED:20201023T165154Z
UID:10000465-1603908000-1603911600@firstrespondersfoundation.org
SUMMARY:Yin Yoga Wednesday 10/28/20 6-7pm
DESCRIPTION:
URL:https://firstrespondersfoundation.org/event/yin-yoga-wednesday-10-28-20-6-7pm/
LOCATION:First Responders Foundation Health & Wellness Center\, 10605 Burt Circle\, Omaha\, NE\, 68114\, United States
CATEGORIES:First Responders Fitness
ATTACH;FMTTYPE=image/jpeg:https://firstrespondersfoundation.org/wp-content/uploads/2020/10/IMG_1698-e1603471782814.jpeg
ORGANIZER;CN="First Responders Physical Health":MAILTO:brian@FirstRespondersFoundation.org
END:VEVENT
BEGIN:VEVENT
DTSTART;TZID=America/Chicago:20201027T181500
DTEND;TZID=America/Chicago:20201027T191500
DTSTAMP:20260423T113253
CREATED:20201023T164055Z
LAST-MODIFIED:20201023T165702Z
UID:10000463-1603822500-1603826100@firstrespondersfoundation.org
SUMMARY:Free First Responders Yoga "FRY" Oct. 27th 6:15-7:15PM
DESCRIPTION:
URL:https://firstrespondersfoundation.org/event/first-responders-yoga-fry-oct-27th-615-715pm/
LOCATION:First Responders Foundation Health & Wellness Center\, 10605 Burt Circle\, Omaha\, NE\, 68114\, United States
CATEGORIES:First Responders Fitness,FRY - First Responders Yoga
ATTACH;FMTTYPE=image/png:https://firstrespondersfoundation.org/wp-content/uploads/2020/09/400x300-px-FRT-yoga.png
ORGANIZER;CN="Free First Responders Yoga 'FRY'":MAILTO:diann@firstrespondersfoundation.org
END:VEVENT
BEGIN:VEVENT
DTSTART;TZID=America/Chicago:20201014T180000
DTEND;TZID=America/Chicago:20201014T190000
DTSTAMP:20260423T113253
CREATED:20201008T142148Z
LAST-MODIFIED:20201014T153438Z
UID:10000458-1602698400-1602702000@firstrespondersfoundation.org
SUMMARY:Yin Yoga Wednesday's at 6pm
DESCRIPTION:
URL:https://firstrespondersfoundation.org/event/yin-yoga-wednesdays-at-6pm/
LOCATION:First Responders Foundation Health & Wellness Center\, 10605 Burt Circle\, Omaha\, NE\, 68114\, United States
CATEGORIES:First Responders Fitness
ORGANIZER;CN="First Responders Physical Health":MAILTO:brian@FirstRespondersFoundation.org
END:VEVENT
BEGIN:VEVENT
DTSTART;TZID=America/Chicago:20200930T180000
DTEND;TZID=America/Chicago:20200930T190000
DTSTAMP:20260423T113253
CREATED:20200921T023429Z
LAST-MODIFIED:20201002T192550Z
UID:10000450-1601488800-1601492400@firstrespondersfoundation.org
SUMMARY:Nidra Yoga
DESCRIPTION:
URL:https://firstrespondersfoundation.org/event/nadra-yoga-2020-09-30/
LOCATION:NE
CATEGORIES:First Responders Fitness,Nidra Yoga
ATTACH;FMTTYPE=image/png:https://firstrespondersfoundation.org/wp-content/uploads/2020/09/400x300px-Nidra-Yoga.png
ORGANIZER;CN="First Responders Physical Health":MAILTO:brian@FirstRespondersFoundation.org
END:VEVENT
BEGIN:VEVENT
DTSTART;TZID=America/Chicago:20200929T180000
DTEND;TZID=America/Chicago:20200929T190000
DTSTAMP:20260423T113253
CREATED:20200921T022946Z
LAST-MODIFIED:20200926T131132Z
UID:10000449-1601402400-1601406000@firstrespondersfoundation.org
SUMMARY:FRY - First Responders Yoga
DESCRIPTION:
URL:https://firstrespondersfoundation.org/event/fry-first-responders-yoga-2020-09-29/
LOCATION:NE
CATEGORIES:First Responders Fitness,FRY - First Responders Yoga
ATTACH;FMTTYPE=image/png:https://firstrespondersfoundation.org/wp-content/uploads/2020/09/400x300-px-FRT-yoga.png
ORGANIZER;CN="First Responders Physical Health":MAILTO:brian@FirstRespondersFoundation.org
END:VEVENT
BEGIN:VEVENT
DTSTART;TZID=America/Chicago:20200928T180000
DTEND;TZID=America/Chicago:20200928T190000
DTSTAMP:20260423T113253
CREATED:20200926T130239Z
LAST-MODIFIED:20200926T130614Z
UID:10000452-1601316000-1601319600@firstrespondersfoundation.org
SUMMARY:Yin Yoga
DESCRIPTION:
URL:https://firstrespondersfoundation.org/event/yin-yoga/
LOCATION:First Responders Foundation Health & Wellness Center\, 10605 Burt Circle\, Omaha\, NE\, 68114\, United States
CATEGORIES:First Responders Fitness
ATTACH;FMTTYPE=image/png:https://firstrespondersfoundation.org/wp-content/uploads/2020/09/Yin-Yoga-400x300-px.png
ORGANIZER;CN="First Responders Physical Health":MAILTO:brian@FirstRespondersFoundation.org
END:VEVENT
END:VCALENDAR